BEGIN:VCALENDAR
VERSION:2.0
PRODID:-//ACPAN - ECPv4.8.1//NONSGML v1.0//EN
CALSCALE:GREGORIAN
METHOD:PUBLISH
X-WR-CALNAME:ACPAN
X-ORIGINAL-URL:https://acpan.edu.au
X-WR-CALDESC:Events for ACPAN
BEGIN:VEVENT
DTSTART;TZID=Australia/Brisbane:20190629T080000
DTEND;TZID=Australia/Brisbane:20190630T170000
DTSTAMP:20190228T012206
CREATED:20181031T043035Z
LAST-MODIFIED:20181031T052935Z
UID:6450-1561795200-1561914000@acpan.edu.au
SUMMARY:ACPAN ALS & PALS - BRISBANE
DESCRIPTION:ACPAN ALS & PALS – BRISBANE 29th & 30th June 2019. \nEARLYBIRD PRICES 40% off for ACPAN Members.\n\nACPAN has partnered with Critical Care Education Services to bring our members an exclusive offer for the ANZCA and ACPAN endorsed ALS & PALS courses in 2019. ON SALE FROM 1st JANUARY 2019. \n*Must be a current paid member of ACPAN. *Limit of 1 ticket per member. There are no discounts applied to the ‘optional’ competency assessments. These are full price and are an optional extra. Not a member of ACPAN? JOIN TODAY. \nAre you interested? Complete form below to receive updates on ALS/ PALS courses 2019!\n\n                \n                        \n                            \n                        \n                        FIRST NAME:*LAST NAME:*EMAIL:*\n                            \n                        I agree to receiving emails about ACPAN ALS/PALS 2019.*\n								\n								Agree\n							\n                            \n          \n            \n            \n            \n            \n            \n            \n            \n            \n            \n        \n                        \n                         if(typeof gf_global == 'undefined') var gf_global = {"gf_currency_config":{"name":"U.S. Dollar"\,"symbol_left":"$"\,"symbol_right":""\,"symbol_padding":""\,"thousand_separator":"\,"\,"decimal_separator":"."\,"decimals":2}\,"base_url":"https:\/\/acpan.edu.au\/wp-content\/plugins\/gravityforms"\,"number_formats":[]\,"spinnerUrl":"https:\/\/acpan.edu.au\/wp-content\/plugins\/gravityforms\/images\/spinner.gif"};jQuery(document).bind('gform_post_render'\, function(event\, formId\, currentPage){if(formId == 11) {gf_global["number_formats"][11] = {"1":{"price":false\,"value":false}\,"2":{"price":false\,"value":false}\,"6":{"price":false\,"value":false}\,"4":{"price":false\,"value":false}};if(window['jQuery']){if(!window['gf_form_conditional_logic'])window['gf_form_conditional_logic'] = new Array();window['gf_form_conditional_logic'][11] = { logic: { 0: {"field":{"actionType":"show"\,"logicType":"all"\,"rules":[{"fieldId":"4"\,"operator":"is"\,"value":"Agree"}]}\,"section":null} }\, dependents: { 0: [0] }\, animation: 0\, defaults: []\, fields: {"1":[0]\,"2":[0]\,"6":[0]\,"4":[0]} }; if(!window['gf_number_format'])window['gf_number_format'] = 'decimal_dot';jQuery(document).ready(function(){gf_apply_rules(11\, [0]\, true);jQuery('#gform_wrapper_11').show();jQuery(document).trigger('gform_post_conditional_logic'\, [11\, null\, true]);} );} } } );jQuery(document).bind('gform_post_conditional_logic'\, function(event\, formId\, fields\, isInit){} ); jQuery(document).ready(function(){jQuery(document).trigger('gform_post_render'\, [11\, 1]) } ); \n  \n
URL:https://acpan.edu.au/event/acpan-als-pals-brisbane/
END:VEVENT
END:VCALENDAR