BEGIN:VCALENDAR
VERSION:2.0
PRODID:-//ACPAN - ECPv4.8.1//NONSGML v1.0//EN
CALSCALE:GREGORIAN
METHOD:PUBLISH
X-WR-CALNAME:ACPAN
X-ORIGINAL-URL:https://acpan.edu.au
X-WR-CALDESC:Events for ACPAN
BEGIN:VEVENT
DTSTART;TZID=Australia/Melbourne:20190504T074500
DTEND;TZID=Australia/Melbourne:20190504T163000
DTSTAMP:20190228T012127
CREATED:20190207T040806Z
LAST-MODIFIED:20190209T225837Z
UID:7004-1556955900-1556987400@acpan.edu.au
SUMMARY:ACPAN Perianaesthesia Crisis Management
DESCRIPTION:PERTH: 4 May 2019- St John of God\, Murdoch\, Perth\, WA.\nFLYER AVAILABLE HERE. Registration Open Now for Perth PCM!\nMELBOURNE: 17 October 2019-Pullman on the Park\, Melbourne\, VIC.\nRegistration Opening Soon!\nACPAN Perianaesthesia Crisis Management is full-day course with lectures that aim to cover core clinical components related to ANZCA PS08 2016 related to emergency care. \nCourse Aims: \n– Define and discuss perianaesthesia emergencies \n– Define and discuss fundamental pathophysiology of perianaesthesia emergencies \n– Improve understanding of perianaesthesia emergencies \n– Review current evidence based literature \n– Discuss crisis management principles \n– Discuss different algorithms for managing specific perianaesthesia emergencies \n  \n$200.00- Member* \n$300.00- Non-Member* \n*Includes morning and lunch. \n$120.00- Member – LIVE PRESENTATION LINK VIA ZOOM \n$200.00- Non-Member- LIVE PRESENTATION LINK VIA ZOOM \n  \nACPAN Course Cancellation and Non Attendance Policy \n
URL:https://acpan.edu.au/event/acpan-perianaesthesia-crisis-management/2019-05-04/
ATTACH;FMTTYPE=image/jpeg:https://acpan.edu.au/wp-content/uploads/2014/03/hero-image-doublesize.jpg
END:VEVENT
END:VCALENDAR