BEGIN:VCALENDAR
VERSION:2.0
PRODID:-//ACPAN - ECPv5.0.1//NONSGML v1.0//EN
CALSCALE:GREGORIAN
METHOD:PUBLISH
X-WR-CALNAME:ACPAN
X-ORIGINAL-URL:https://acpan.edu.au
X-WR-CALDESC:Events for ACPAN
BEGIN:VTIMEZONE
TZID:Australia/Melbourne
BEGIN:STANDARD
TZOFFSETFROM:+1100
TZOFFSETTO:+1000
TZNAME:AEST
DTSTART:20200404T160000
END:STANDARD
BEGIN:DAYLIGHT
TZOFFSETFROM:+1000
TZOFFSETTO:+1100
TZNAME:AEDT
DTSTART:20201003T160000
END:DAYLIGHT
END:VTIMEZONE
BEGIN:VEVENT
DTSTART;TZID=Australia/Melbourne:20200307T080000
DTEND;TZID=Australia/Melbourne:20200307T163000
DTSTAMP:20200228T063826
CREATED:20191204T005050Z
LAST-MODIFIED:20191204T010054Z
UID:8804-1583568000-1583598600@acpan.edu.au
SUMMARY:PCM - Perth
DESCRIPTION:Perianaesthesia Crisis Management is a full-day course with lectures in accordance with Australian and New Zealand national standards related to emergency care. This course provides participants with introductory background theory and information relevant to perianaesthesia crisis management and perianaesthesia emergencies related to national standards\, literature and evidence based practice. \nAims: \n\nDiscuss the role of the perianaesthesia nurse in crisis resource management;\nRecognise algorithms for managing anaesthesia crises;\nImprove knowledge on malignant hyperthermia\, can’t intubate\, can’t oxygenate\, anaphylaxis\nLearn non-technical skills for managing crisis & emergencies;\nUnderstand human factors in crisis management & discuss crisis resource management principles;\nReview massive transfusion protocols & critical bleeding;\nDiscuss background pathophysiology of cardiac events & discuss common emergencies;\nDiscuss background pathophysiology of local anaesthetics & discuss local anaesthetic toxicity;\nEngage in case based scenario discussions; and\nImprove understanding of anaesthesia emergencies.\n\nMEMBER BENEFIT! Are a member of ACPAN? You are entitled to 5% discount on this course booking. Use code ACPAN5 at checkout.  \nYou may also be eligible for an additional ACPAN discount.  \nBook and pay for this course   \nApply for a Education Grant  \n
URL:https://acpan.edu.au/event/pcm-perth/
LOCATION:Perth\, WA\, Australia
ORGANIZER;CN="OMNI":MAILTO:info@omnianaesthesia.com
END:VEVENT
END:VCALENDAR